BEGIN:VCALENDAR
VERSION:2.0
PRODID:-//Membership Demo - ECPv6.15.12.2//NONSGML v1.0//EN
CALSCALE:GREGORIAN
METHOD:PUBLISH
X-WR-CALNAME:Membership Demo
X-ORIGINAL-URL:https://mship.amzarhanis.my
X-WR-CALDESC:Events for Membership Demo
REFRESH-INTERVAL;VALUE=DURATION:PT1H
X-Robots-Tag:noindex
X-PUBLISHED-TTL:PT1H
BEGIN:VTIMEZONE
TZID:Asia/Kuala_Lumpur
BEGIN:STANDARD
TZOFFSETFROM:+0800
TZOFFSETTO:+0800
TZNAME:+08
DTSTART:20240101T000000
END:STANDARD
END:VTIMEZONE
BEGIN:VEVENT
DTSTART;TZID=Asia/Kuala_Lumpur:20260101T080000
DTEND;TZID=Asia/Kuala_Lumpur:20260101T170000
DTSTAMP:20260419T202122
CREATED:20251217T061410Z
LAST-MODIFIED:20251217T061410Z
UID:1584-1767254400-1767286800@mship.amzarhanis.my
SUMMARY:Kemas Kini: Majlis Ikrar Integriti & Mesyuarat Agung Tahunan
DESCRIPTION:
URL:https://mship.amzarhanis.my/event/kemas-kini-majlis-ikrar-integriti-mesyuarat-agung-tahunan/
LOCATION:Venue A\, United States
CATEGORIES:Category A
ATTACH;FMTTYPE=image/jpeg:https://mship.amzarhanis.my/wp-content/uploads/2025/12/pexels-photo-1181406-1181406-scaled.jpg
END:VEVENT
BEGIN:VEVENT
DTSTART;TZID=Asia/Kuala_Lumpur:20251231T080000
DTEND;TZID=Asia/Kuala_Lumpur:20251231T170000
DTSTAMP:20260419T202122
CREATED:20251217T061248Z
LAST-MODIFIED:20251217T061248Z
UID:1581-1767168000-1767200400@mship.amzarhanis.my
SUMMARY:Kontraktor Pembersihan: Kursus E-Invoicing
DESCRIPTION:
URL:https://mship.amzarhanis.my/event/kontraktor-pembersihan-kursus-e-invoicing/
LOCATION:Venue A\, United States
CATEGORIES:Category A
ATTACH;FMTTYPE=image/jpeg:https://mship.amzarhanis.my/wp-content/uploads/2025/12/pexels-photo-2774556-2774556-scaled.jpg
END:VEVENT
BEGIN:VEVENT
DTSTART;TZID=Asia/Kuala_Lumpur:20251220T080000
DTEND;TZID=Asia/Kuala_Lumpur:20251220T170000
DTSTAMP:20260419T202122
CREATED:20251217T061511Z
LAST-MODIFIED:20251217T061511Z
UID:1587-1766217600-1766250000@mship.amzarhanis.my
SUMMARY:Taklimat Cabaran Sektor Perkhidmatan Pencucian Dan Pembersihan
DESCRIPTION:
URL:https://mship.amzarhanis.my/event/taklimat-cabaran-sektor-perkhidmatan-pencucian-dan-pembersihan/
LOCATION:Venue A\, United States
CATEGORIES:Category A
ATTACH;FMTTYPE=image/jpeg:https://mship.amzarhanis.my/wp-content/uploads/2025/12/pexels-photo-716276-716276-scaled.jpg
END:VEVENT
END:VCALENDAR